BEGIN:VCALENDAR
VERSION:2.0
PRODID:-//FAD e.V. - ECPv4.8.2//NONSGML v1.0//EN
CALSCALE:GREGORIAN
METHOD:PUBLISH
X-WR-CALNAME:FAD e.V.
X-ORIGINAL-URL:https://fad-diesel.de
X-WR-CALDESC:Veranstaltungen im FAD e.V.
BEGIN:VEVENT
DTSTART;VALUE=DATE:20200507
DTEND;VALUE=DATE:20200509
DTSTAMP:20260422T153019
CREATED:20200109T163357Z
LAST-MODIFIED:20200109T163602Z
UID:51639-1588809600-1588982399@fad-diesel.de
SUMMARY:Symposium anlässlich 20 Jahre FAD e.V.
DESCRIPTION:[vc_row][vc_column][vc_column_text]Datum:  7. Mai – 8. Mai 2020 \nWeitere Informationen folgen[/vc_column_text][/vc_column][/vc_row][vc_row][vc_column][/vc_column][/vc_row] \n
URL:https://fad-diesel.de/event/symposium-anlaesslich-20-jahre-fad-e-v/
CATEGORIES:Konferenz
END:VEVENT
END:VCALENDAR