BEGIN:VCALENDAR
VERSION:2.0
PRODID:-//FAD e.V. - ECPv4.8.2//NONSGML v1.0//EN
CALSCALE:GREGORIAN
METHOD:PUBLISH
X-WR-CALNAME:FAD e.V.
X-ORIGINAL-URL:https://fad-diesel.de/?lang=en
X-WR-CALDESC:Events for FAD e.V.
BEGIN:VEVENT
DTSTART;VALUE=DATE:20230511
DTEND;VALUE=DATE:20230513
DTSTAMP:20260422T153008
CREATED:20230310T131734Z
LAST-MODIFIED:20230316T145428Z
UID:52172-1683763200-1683935999@fad-diesel.de
SUMMARY:FAD-Workshop „Challenges for post-fossil Mobility"
DESCRIPTION:[vc_row][vc_column][vc_column_text]Datum:  11. und 12. Mai 2023 \nOrt:  Radebeul bei Dresden[/vc_column_text][vc_column_text]It is undisputed that if the desired climate neutrality is to be achieved\, future mobility in Europe must no longer be based on fossil fuels. However\, there is a great need for discussion regarding the design of post-fossil mobility. In view of the ongoing energy crisis\, the distortions on the world markets and the problems with the expansion of renewable energies\, to name just a few factors\, the extent to which mobility based purely on electric drives is still realistic must be questioned. The climate target cannot be achieved with electromobility alone\, because even in 2035 the majority of existing vehicles will still be equipped with combustion engines. In some areas\, these are irreplaceable even by today’s standards. Against this background\, a holistic approach must be found for the design of post-fossil mobility in order not to fail in reality. \nThe need for information and discussion on this problem is enormous\, which is why the FAD e.V. will organize a workshop on this. \nThe focal points of the FAD-Workshop  \n\nRegenerative fuels to achieve European climate protection goals\nFuture prospects for internal combustion engines with climate-neutral fuels\nE-fuels from CO2 and water\nGreen hydrogen for mobility\nEnergy base for post-fossil fuels\nUtilization potential of post-fossil fuels for existing fleets\nProduction\, storage and transport of hydrogen-based fuels\nComparison of the overall efficiency of alternative fuels\nPost-fossil fuels and emissions (GHG and pollutants)\nNew fuels for shipping\nFuels for sustainable aviation\n\n  \nWe would like to cordially invite you to this 1 ½ day event![/vc_column_text][/vc_column][/vc_row][vc_row][vc_column width=”1/2″][vc_column_text]Further details on the FAD workshop will be published in March 2023. \n[/vc_column_text][vc_column_text]Conference language \nGerman \n  \nRegistration \nRegistration will be possible after the program has been published.[/vc_column_text]#default-btn-3403540de1b78e0171593d7711100b01.ico-right-side > i {\n  margin-right: 0px;\n  margin-left: 8px;\n}\n#default-btn-3403540de1b78e0171593d7711100b01 > i {\n  margin-right: 8px;\n}\nDownload Anmeldung[vc_empty_space][vc_separator][vc_column_text]Program\n \n– unreleased -[/vc_column_text]#default-btn-3403540de1b78e0171593d7711100b01.ico-right-side > i {\n  margin-right: 0px;\n  margin-left: 8px;\n}\n#default-btn-3403540de1b78e0171593d7711100b01 > i {\n  margin-right: 8px;\n}\nDownload Programm[/vc_column][vc_column width=”1/2″][vc_empty_space]			\n				jQuery(document).ready(function ($) {\n					if( typeof jQuery('.ult-carousel-315853007669e8e98025b75').slick == "function"){\n						$('.ult-carousel-315853007669e8e98025b75').slick({dots: false\,autoplaySpeed: 5000\,speed: 300\,infinite: true\,arrows: true\,nextArrow: ''\,prevArrow: ''\,slidesToScroll:1\,slidesToShow:1\,swipe: true\,draggable: true\,touchMove: true\,pauseOnHover: true\,pauseOnFocus: false\,responsive: [\n							{\n							  breakpoint: 1026\,\n							  settings: {\n								slidesToShow: 1\,\n								slidesToScroll: 1\,  \n							  }\n							}\,\n							{\n							  breakpoint: 1025\,\n							  settings: {\n								slidesToShow: 1\,\n								slidesToScroll: 1\n							  }\n							}\,\n							{\n							  breakpoint: 760\,\n							  settings: {\n								slidesToShow: 1\,\n								slidesToScroll: 1\n							  }\n							}\n						]\,pauseOnDotsHover: true\,customPaging: function(slider\, i) {\n                   return '';\n                }\,});\n					}\n				});\n			\n			[/vc_column][/vc_row][vc_row][vc_column][/vc_column][/vc_row][vc_row][vc_column][/vc_column][/vc_row] \n
URL:https://fad-diesel.de/event/fad-workshop-challenges-for-post-fossil-mobility/?lang=en
CATEGORIES:workshop
ATTACH;FMTTYPE=image/gif:https://fad-diesel.de/wp-content/uploads/2023/02/Logo_kurve_Internet.gif
END:VEVENT
END:VCALENDAR