BEGIN:VCALENDAR
VERSION:2.0
PRODID:-//FAD e.V. - ECPv4.8.2//NONSGML v1.0//EN
CALSCALE:GREGORIAN
METHOD:PUBLISH
X-WR-CALNAME:FAD e.V.
X-ORIGINAL-URL:https://fad-diesel.de/?lang=en
X-WR-CALDESC:Events for FAD e.V.
BEGIN:VEVENT
DTSTART;VALUE=DATE:20251105
DTEND;VALUE=DATE:20251107
DTSTAMP:20260422T154743
CREATED:20250319T153325Z
LAST-MODIFIED:20251016T113533Z
UID:52439-1762300800-1762473599@fad-diesel.de
SUMMARY:22. FAD-Conference „Challenge – Exhaust Aftertreatment“
DESCRIPTION:[vc_row][vc_column][vc_column_text]Datum:  5. November – 6. November 2025\nOrt:  Dresden[/vc_column_text][vc_column_text] \n\nWe cordially invite you to the 22nd FAD-Conference in Dresden in November 2025. Experts from industry\, science\, and research will once again meet to learn more\, discuss solutions\, and exchange ideas through specialist presentations. \nThe accompanying exhibition offers companies and scientific institutions the opportunity to present themselves and their products to an expert audience. \nWe would be delighted if you accept our invitation. \n\n[/vc_column_text][vc_column_text] \n\nParticipation fees 2025  for in-person participation \nIndustry     € 1\,200 \nUniversity/Public Authority  € 700 \n  \nUnfortunately\, we cannot offer the online participation in the conference as stated in the program flyer this year. \n  \n\n[/vc_column_text][vc_column_text]Program \nThe presentations at this year’s FAD conference highlight the diversification of drive systems and clearly indicate where the challenges now lie\, e.g.\, in exhaust gas aftertreatment for H2 combustion engines\, in the implementation of zero-emission solutions\, etc. In addition to specialist presentations\, the program also included cross-disciplinary presentations. We hope the program finds you interested. \nProgram 22. FAD-Conference \n  \nRegistration \nRegistration for the 22nd FAD Conference is now open using the registration form below. (Please save the completed registration form as a PDF before sending to ensure the entries are retained.) \nRegistration form 22. FAD-Conference 2025 \n  \nExhibition \n As in previous years\, the accompanying exhibition will complement the conference program. It will serve as an informative complement to the presentations and also provide an opportunity to engage in conversation with other conference participants during the breaks. We have indoor and outdoor exhibition space available. Please refer to the exhibitor brochure for all further details about the exhibition. \nExhibitor brochure 22nd FAD Conference 2025  \nRegistration form for the exhibition 22nd FAD Conference 2025 \n  \nIf you have any questions about the FAD-Conference please contact us via  konferenz@fad-diesel.de.[/vc_column_text][vc_column_text][/vc_column_text][vc_column_text][/vc_column_text][/vc_column][/vc_row][vc_row][vc_column][/vc_column][/vc_row] \n
URL:https://fad-diesel.de/event/22-fad-conference-challenge-exhaust-aftertreatment/?lang=en
CATEGORIES:conference
ATTACH;FMTTYPE=image/jpeg:https://fad-diesel.de/wp-content/uploads/2025/03/Ankuendigung_Bild-dt_klein.jpg
END:VEVENT
END:VCALENDAR