BEGIN:VCALENDAR
VERSION:2.0
PRODID:-//FAD e.V. - ECPv4.8.2//NONSGML v1.0//EN
CALSCALE:GREGORIAN
METHOD:PUBLISH
X-WR-CALNAME:FAD e.V.
X-ORIGINAL-URL:https://fad-diesel.de
X-WR-CALDESC:Veranstaltungen im FAD e.V.
BEGIN:VEVENT
DTSTART;VALUE=DATE:20190314
DTEND;VALUE=DATE:20190315
DTSTAMP:20260422T151859
CREATED:20180827T113731Z
LAST-MODIFIED:20220203T114825Z
UID:244-1552521600-1552607999@fad-diesel.de
SUMMARY:2. FAD-Workshop „Kraftstoffe für nachhaltige Mobilität“
DESCRIPTION:[vc_row][vc_column][vc_column_text]Datum:  14. und 15. März 2019 \nOrt:  Hotel Hilton Dresden[/vc_column_text][/vc_column][/vc_row][vc_row][vc_column width=“1/2″][vc_column_text]Zusammenfassung \nAuf Grund der positiven Resonanz auf den ersten Workshop „Kraftstoffe für nachhaltige Mobilität“ 2018 lud  der FAD e.V. am 14. und 15. März 2019 erneut nach Dresden zu einem Workshop unter dieser Überschrift ein. \nDer diesjährige Workshop setzte sich schwerpunktmäßig mit dem Stand der Diversifizierung der Energiebasis des Verkehrs auseinander. Neben der Verfügbarkeit und Qualitätssicherung wurde über die Herausforderungen hybrider Antriebe an die Kraftstoffe und alternative Kraftstoffe referiert und diskutiert. \nAm ersten Tag eröffnete Herr Professor Zikoridse den Workshop mit einem einführenden Vortrag in die Thematik. Er stellt die heutigen Herausforderungen dar\, welche bewältigt werden müssen\, damit der Verbrennungsmotor weiterhin ein wichtiger Garant für Mobilität sein kann. Im Anschluss an diesen Einführungsvortrag startete die Exkursion zum Institut für Energieverfahrenstechnik und Chemieingenieurwesen der  TU Bergakademie Freiberg. Herr Dr. Seifert\, IEC\, stellte in seinem Vortrag das Institut und dessen Forschungsschwerpunkte vor. Anschließend erfolgten gruppenweise Führungen durch die Großversuchsanlagen und Laboratorien mit den Forschungsschwerpunkten Kraftstoffherstellung und Abgasbehandlung. \nDer zweite Tag des Workshops war den Fachvorträgen vorbehalten. Herr Professor Harndorf\, Universität Rostock\, konnte erneut als Moderator gewonnen werden. \nNach den Vorträge fand eine Podiumsdiskussion statt. Hier standen alle Referenten den Teilnehmern für Fragen zur Verfügung. \nZusammenfassend stellte Herr Professor Zikoridse in seinem Schlusswort fest\, dass durch den Einsatz CO2-reduzierter  Kraftstoffe sofort eine CO2-Minderung realisierbar wäre. CO2-neutrale Kraftstoffe müssen dann ergänzend dazu kommen\, um den Einsparungseffekt zu vergrößern. Soll Mobilität nachhaltig werden\, kann auf die Option „Kraftstoffe“ nicht verzichtet werden\, denn es gibt Bereiche in denen der Einsatz von Verbrennungsmotoren alternativlos ist\, zum Beispiel beim Flug- und Schiffsverkehr. Er geht davon aus\, dass es in den nächsten Jahren einen großen Wandel auf dem Kraftstoffmarkt geben wird.[/vc_column_text][vc_separator][vc_separator][/vc_column][vc_column width=“1/2″][vc_empty_space].shortcode-single-image-wrap.shortcode-single-image-6084b02fb360276aef99c099f7094cd0.enable-bg-rollover .rollover i\,\n.shortcode-single-image-wrap.shortcode-single-image-6084b02fb360276aef99c099f7094cd0.enable-bg-rollover .rollover-video i {\n  background: -webkit-linear-gradient();\n  background: linear-gradient();\n}\n.shortcode-single-image-wrap.shortcode-single-image-6084b02fb360276aef99c099f7094cd0 .rollover-icon {\n  font-size: 32px;\n  color: #ffffff;\n  min-width: 44px;\n  min-height: 44px;\n  line-height: 44px;\n  border-radius: 100px;\n  border-style: solid;\n  border-width: 0px;\n}\n.dt-icon-bg-on.shortcode-single-image-wrap.shortcode-single-image-6084b02fb360276aef99c099f7094cd0 .rollover-icon {\n  background: rgba(255\,255\,255\,0.3);\n  box-shadow: none;\n}\n.shortcode-single-image-wrap.shortcode-single-image-b465efeeaf695bc2dbdbfd94666eebc2.enable-bg-rollover .rollover i\,\n.shortcode-single-image-wrap.shortcode-single-image-b465efeeaf695bc2dbdbfd94666eebc2.enable-bg-rollover .rollover-video i {\n  background: -webkit-linear-gradient();\n  background: linear-gradient();\n}\n.shortcode-single-image-wrap.shortcode-single-image-b465efeeaf695bc2dbdbfd94666eebc2 .rollover-icon {\n  font-size: 32px;\n  color: #ffffff;\n  min-width: 44px;\n  min-height: 44px;\n  line-height: 44px;\n  border-radius: 100px;\n  border-style: solid;\n  border-width: 0px;\n}\n.dt-icon-bg-on.shortcode-single-image-wrap.shortcode-single-image-b465efeeaf695bc2dbdbfd94666eebc2 .rollover-icon {\n  background: rgba(255\,255\,255\,0.3);\n  box-shadow: none;\n}\n.shortcode-single-image-wrap.shortcode-single-image-dbbbaf3d954022382c32cbc5358c915f.enable-bg-rollover .rollover i\,\n.shortcode-single-image-wrap.shortcode-single-image-dbbbaf3d954022382c32cbc5358c915f.enable-bg-rollover .rollover-video i {\n  background: -webkit-linear-gradient();\n  background: linear-gradient();\n}\n.shortcode-single-image-wrap.shortcode-single-image-dbbbaf3d954022382c32cbc5358c915f .rollover-icon {\n  font-size: 32px;\n  color: #ffffff;\n  min-width: 44px;\n  min-height: 44px;\n  line-height: 44px;\n  border-radius: 100px;\n  border-style: solid;\n  border-width: 0px;\n}\n.dt-icon-bg-on.shortcode-single-image-wrap.shortcode-single-image-dbbbaf3d954022382c32cbc5358c915f .rollover-icon {\n  background: rgba(255\,255\,255\,0.3);\n  box-shadow: none;\n}\n.shortcode-single-image-wrap.shortcode-single-image-43aa40abbb53c23208286abc354a0765.enable-bg-rollover .rollover i\,\n.shortcode-single-image-wrap.shortcode-single-image-43aa40abbb53c23208286abc354a0765.enable-bg-rollover .rollover-video i {\n  background: -webkit-linear-gradient();\n  background: linear-gradient();\n}\n.shortcode-single-image-wrap.shortcode-single-image-43aa40abbb53c23208286abc354a0765 .rollover-icon {\n  font-size: 32px;\n  color: #ffffff;\n  min-width: 44px;\n  min-height: 44px;\n  line-height: 44px;\n  border-radius: 100px;\n  border-style: solid;\n  border-width: 0px;\n}\n.dt-icon-bg-on.shortcode-single-image-wrap.shortcode-single-image-43aa40abbb53c23208286abc354a0765 .rollover-icon {\n  background: rgba(255\,255\,255\,0.3);\n  box-shadow: none;\n}\n.shortcode-single-image-wrap.shortcode-single-image-439c6bebb6e26b8e65e40b4c866584e0.enable-bg-rollover .rollover i\,\n.shortcode-single-image-wrap.shortcode-single-image-439c6bebb6e26b8e65e40b4c866584e0.enable-bg-rollover .rollover-video i {\n  background: -webkit-linear-gradient();\n  background: linear-gradient();\n}\n.shortcode-single-image-wrap.shortcode-single-image-439c6bebb6e26b8e65e40b4c866584e0 .rollover-icon {\n  font-size: 32px;\n  color: #ffffff;\n  min-width: 44px;\n  min-height: 44px;\n  line-height: 44px;\n  border-radius: 100px;\n  border-style: solid;\n  border-width: 0px;\n}\n.dt-icon-bg-on.shortcode-single-image-wrap.shortcode-single-image-439c6bebb6e26b8e65e40b4c866584e0 .rollover-icon {\n  background: rgba(255\,255\,255\,0.3);\n  box-shadow: none;\n}\n			\n				jQuery(document).ready(function ($) {\n					if( typeof jQuery('.ult-carousel-221619391169e8e6e390623').slick == "function"){\n						$('.ult-carousel-221619391169e8e6e390623').slick({dots: false\,autoplaySpeed: 5000\,speed: 300\,infinite: true\,arrows: true\,nextArrow: ''\,prevArrow: ''\,slidesToScroll:1\,slidesToShow:1\,swipe: true\,draggable: true\,touchMove: true\,pauseOnHover: true\,pauseOnFocus: false\,responsive: [\n							{\n							  breakpoint: 1026\,\n							  settings: {\n								slidesToShow: 1\,\n								slidesToScroll: 1\,  \n							  }\n							}\,\n							{\n							  breakpoint: 1025\,\n							  settings: {\n								slidesToShow: 1\,\n								slidesToScroll: 1\n							  }\n							}\,\n							{\n							  breakpoint: 760\,\n							  settings: {\n								slidesToShow: 1\,\n								slidesToScroll: 1\n							  }\n							}\n						]\,pauseOnDotsHover: true\,customPaging: function(slider\, i) {\n                   return '';\n                }\,});\n					}\n				});\n			\n			[/vc_column][/vc_row][vc_row][vc_column][/vc_column][/vc_row][vc_row][vc_column][/vc_column][/vc_row] \n
URL:https://fad-diesel.de/event/2-fad-workshop-kraftstoffe-fuer-nachhaltige-mobilitaet/
CATEGORIES:Workshop
ATTACH;FMTTYPE=image/jpeg:https://fad-diesel.de/wp-content/uploads/2018/08/Kraftstoff-WS.jpg
END:VEVENT
END:VCALENDAR