BEGIN:VCALENDAR
VERSION:2.0
PRODID:-//FAD e.V. - ECPv4.8.2//NONSGML v1.0//EN
CALSCALE:GREGORIAN
METHOD:PUBLISH
X-WR-CALNAME:FAD e.V.
X-ORIGINAL-URL:https://fad-diesel.de
X-WR-CALDESC:Veranstaltungen im FAD e.V.
BEGIN:VEVENT
DTSTART;VALUE=DATE:20220519
DTEND;VALUE=DATE:20220521
DTSTAMP:20260422T133756
CREATED:20220202T124552Z
LAST-MODIFIED:20260402T125025Z
UID:51916-1652918400-1653091199@fad-diesel.de
SUMMARY:FAD-Workshop „CO2 neutrale Mobilität-Fit for 55“
DESCRIPTION:[vc_row][vc_column][vc_column_text]Datum:  19. und 20. Mai 2022 \nOrt:  Dresden[/vc_column_text][vc_column_text]Die EU hat das ehrgeizige Ziel formuliert\, die Nettoemissionen bis 2030 um mindestens 55% zu senken\, bezogen auf 1990. Die Dekarbonisierung des Verkehrssektors gestaltet sich schwierig\, ist aber entscheidend für die Zielerreichung.  CO2-neutralen Mobilität ist nur realisierbar über die Bereitstellung sauberer Kraftstoffe für Bestandsfahrzeuge\, die Entwicklung alternativer Antriebe und Kraftstoffe sowie den Aufbau der dafür benötigeten Infrastruktur. \n  \nDetails zum FAD-Workshops entnehmen Sie bitte dem Programm. \nDie einzelnen Vorträge können bei der Geschäftsstelle des FAD e.V. nachgefragt werden.[/vc_column_text][/vc_column][/vc_row][vc_row][vc_column width=“1/2″][vc_column_text]Programm\n[/vc_column_text]#default-btn-3952e70366318513e9be04cdb59b72bc.ico-right-side > i {\n  margin-right: 0px;\n  margin-left: 8px;\n}\n#default-btn-3952e70366318513e9be04cdb59b72bc > i {\n  margin-right: 8px;\n}\nDownload Programm[/vc_column][vc_column width=“1/2″][vc_empty_space]			\n				jQuery(document).ready(function ($) {\n					if( typeof jQuery('.ult-carousel-7103482769e8cf3498ab2').slick == "function"){\n						$('.ult-carousel-7103482769e8cf3498ab2').slick({dots: false\,autoplaySpeed: 5000\,speed: 300\,infinite: true\,arrows: true\,nextArrow: ''\,prevArrow: ''\,slidesToScroll:1\,slidesToShow:1\,swipe: true\,draggable: true\,touchMove: true\,pauseOnHover: true\,pauseOnFocus: false\,responsive: [\n							{\n							  breakpoint: 1026\,\n							  settings: {\n								slidesToShow: 1\,\n								slidesToScroll: 1\,  \n							  }\n							}\,\n							{\n							  breakpoint: 1025\,\n							  settings: {\n								slidesToShow: 1\,\n								slidesToScroll: 1\n							  }\n							}\,\n							{\n							  breakpoint: 760\,\n							  settings: {\n								slidesToShow: 1\,\n								slidesToScroll: 1\n							  }\n							}\n						]\,pauseOnDotsHover: true\,customPaging: function(slider\, i) {\n                   return '';\n                }\,});\n					}\n				});\n			\n			[/vc_column][/vc_row][vc_row][vc_column][/vc_column][/vc_row][vc_row][vc_column][/vc_column][/vc_row] \n
URL:https://fad-diesel.de/event/2-fad-workshop-kraftstoffe-fuer-nachhaltige-mobilitaet-copy/
CATEGORIES:Workshop
ATTACH;FMTTYPE=image/jpeg:https://fad-diesel.de/wp-content/uploads/2022/02/Logo-Internet_820.jpg
END:VEVENT
END:VCALENDAR