BEGIN:VCALENDAR
VERSION:2.0
PRODID:-//FAD e.V. - ECPv4.8.2//NONSGML v1.0//EN
CALSCALE:GREGORIAN
METHOD:PUBLISH
X-WR-CALNAME:FAD e.V.
X-ORIGINAL-URL:https://fad-diesel.de
X-WR-CALDESC:Veranstaltungen im FAD e.V.
BEGIN:VEVENT
DTSTART;VALUE=DATE:20191106
DTEND;VALUE=DATE:20191108
DTSTAMP:20260422T134423
CREATED:20190214T135054Z
LAST-MODIFIED:20200729T114206Z
UID:51528-1572998400-1573171199@fad-diesel.de
SUMMARY:17. FAD-Konferenz „Herausforderung – Abgasnachbehandlung“
DESCRIPTION:[vc_row][vc_column width=“1/2″][vc_empty_space][vc_column_text]Zusammenfassung 17. FAD-Konferenz „Herausforderung – Abgasnachbehandlung“ \nAm 6. und 7. November 2019 trafen sich 150 Fachleute aus der Automobil- und Zulieferindustrie\, aus der Messtechnikbranche sowie von Hochschulen und Behörden in Dresden auf der 17. FAD-Konferenz „Herausforderung – Abgasnachbehandlung“\, um sich über die neusten Entwicklungen auf dem Gebiet der Abgasnachbehandlungstechnologien\, der Kraftstoffe und Abgasmesstechnik zu informieren. Weiterhin konnten 12 Unternehmen\, Institute und Hochschulen für die konferenzbegleitende Ausstellung gewonnen werden. Erstmalig gab es eine Posterpräsentation der Diplom- und Promotionsthemen von den Studenten und Doktoranden\, welche im Rahmen des Studentensponsorings an der Konferenz teilnahmen.[/vc_column_text][/vc_column][vc_column width=“1/2″].shortcode-single-image-wrap.shortcode-single-image-bf4ec33ddcfe8a2a7ce0439c3273a2c3.enable-bg-rollover .rollover i\,\n.shortcode-single-image-wrap.shortcode-single-image-bf4ec33ddcfe8a2a7ce0439c3273a2c3.enable-bg-rollover .rollover-video i {\n  background: -webkit-linear-gradient();\n  background: linear-gradient();\n}\n.shortcode-single-image-wrap.shortcode-single-image-bf4ec33ddcfe8a2a7ce0439c3273a2c3 .rollover-icon {\n  font-size: 32px;\n  color: #ffffff;\n  min-width: 44px;\n  min-height: 44px;\n  line-height: 44px;\n  border-radius: 100px;\n  border-style: solid;\n  border-width: 0px;\n}\n.dt-icon-bg-on.shortcode-single-image-wrap.shortcode-single-image-bf4ec33ddcfe8a2a7ce0439c3273a2c3 .rollover-icon {\n  background: rgba(255\,255\,255\,0.3);\n  box-shadow: none;\n}\n[/vc_column][/vc_row][vc_row][vc_column][/vc_column][/vc_row][vc_row][vc_column][/vc_column][vc_column][vc_empty_space][vc_column_text]Die 23 Konferenzvorträge widmeten sich den unterschiedlichsten Themengebieten\, wie z.B. den Antrieben der Zukunft\, der Energiebasis zukünftiger Mobilität\, der Herausforderung der Partikelmessung und der neuen Technologien zur Emissionsminderung. \nAlle Vorträge der diesjährigen FAD-Konferenz zeigten\, dass die Weiterentwicklung der  Abgasnachbehandlungssysteme und deren Anpassung an die veränderten Bedingungen weiterhin wichtige Themen sind. Die Entwicklung CO2-reduzierter und CO2-neutrale Kraftstoffe  und deren Einsatz rückt als adäquates Mittel zur zeitnahen CO2-Reduktion immer mehr in den Focus. Diskutiert werden muss auch die Reduzierung von verkehrsbedingten Emissionen\, welche nicht verbrennungsmotorische Ursachen haben. Die Messtechnikindustrie steht ebenfalls vor neuen Aufgaben\, wie z.B. der Messung flüchtiger und schwerflüchtiger Partikel. Die Reduktion der verkehrsbedingten Emissionen wird mit unterschiedlichsten Mitteln vorangetrieben\, damit Verbrennungsmotoren als Bestandteil zukünftiger Mobilität  weiterhin eine bedeutende Rolle spielen. \nUnser Dank gilt allen Referenten und Ausstellern für ihr Engagement\, allen Teilnehmern für ihr Interesse an unserer Veranstaltung und den Unterstützern des Studentensponsorings. Wir freuen uns bereits jetzt darauf\, die Diskussionen und den Erfahrungsaustausch auf der 18. FAD-Konferenz im November 2020 fortsetzen zu können.[/vc_column_text][/vc_column][/vc_row][vc_row][vc_column][vc_separator][/vc_column][/vc_row][vc_row][vc_column][vc_column_text css=“.vc_custom_1578494417185{margin-bottom: 0px !important;}“]Inhaltliche Zusammenfassung der Vorträge[/vc_column_text]#default-btn-07f41869790c5c7f10d9ad998d8599bf.ico-right-side > i {\n  margin-right: 0px;\n  margin-left: 8px;\n}\n#default-btn-07f41869790c5c7f10d9ad998d8599bf > i {\n  margin-right: 8px;\n}\nPDF-Download[vc_column_text css=“.vc_custom_1578494451068{margin-top: 15px !important;}“]Tagungsunterlagen der 17. FAD-Konferenz \nDie Tagungsunterlagen (Tagungsband/ Tagungs-CD) der 17. FAD-Konferenz (46\,- €) sind bei der Geschäftsstelle des FAD e.V. erhältlich. Ihre Bestellung richten Sie bitte an info@fad-diesel.de.[/vc_column_text][/vc_column][/vc_row] \n
URL:https://fad-diesel.de/event/17-fad-konferenz-herausforderung-abgasnachbehandlung/
CATEGORIES:Konferenz
ATTACH;FMTTYPE=image/jpeg:https://fad-diesel.de/wp-content/uploads/2019/02/Ankündigung-Konferenz_2019.jpg
END:VEVENT
END:VCALENDAR